BEGIN:VCALENDAR
VERSION:2.0
PRODID:-//Lauber SV - ECPv6.13.2.1//NONSGML v1.0//EN
CALSCALE:GREGORIAN
METHOD:PUBLISH
X-ORIGINAL-URL:https://laubersv.de
X-WR-CALDESC:Veranstaltungen für Lauber SV
REFRESH-INTERVAL;VALUE=DURATION:PT1H
X-Robots-Tag:noindex
X-PUBLISHED-TTL:PT1H
BEGIN:VTIMEZONE
TZID:Europe/Berlin
BEGIN:DAYLIGHT
TZOFFSETFROM:+0100
TZOFFSETTO:+0200
TZNAME:CEST
DTSTART:20220327T010000
END:DAYLIGHT
BEGIN:STANDARD
TZOFFSETFROM:+0200
TZOFFSETTO:+0100
TZNAME:CET
DTSTART:20221030T010000
END:STANDARD
END:VTIMEZONE
BEGIN:VEVENT
DTSTART;TZID=Europe/Berlin:20220603T170000
DTEND;TZID=Europe/Berlin:20220606T230000
DTSTAMP:20260424T160641
CREATED:20220530T115429Z
LAST-MODIFIED:20220530T115500Z
UID:1679-1654275600-1654556400@laubersv.de
SUMMARY:Pfingesten 2022
DESCRIPTION:
URL:https://laubersv.de/event/pfingesten-2022/
LOCATION:Festzelt Laub\, Laub\, Bayern\, Deutschland
END:VEVENT
END:VCALENDAR